BEGIN:VCALENDAR
VERSION:2.0
PRODID:-//ZUMIX - ECPv6.15.12.2//NONSGML v1.0//EN
CALSCALE:GREGORIAN
METHOD:PUBLISH
X-ORIGINAL-URL:https://www.zumix.org
X-WR-CALDESC:Events for ZUMIX
REFRESH-INTERVAL;VALUE=DURATION:PT1H
X-Robots-Tag:noindex
X-PUBLISHED-TTL:PT1H
BEGIN:VTIMEZONE
TZID:America/New_York
BEGIN:DAYLIGHT
TZOFFSETFROM:-0500
TZOFFSETTO:-0400
TZNAME:EDT
DTSTART:20220313T070000
END:DAYLIGHT
BEGIN:STANDARD
TZOFFSETFROM:-0400
TZOFFSETTO:-0500
TZNAME:EST
DTSTART:20221106T060000
END:STANDARD
BEGIN:DAYLIGHT
TZOFFSETFROM:-0500
TZOFFSETTO:-0400
TZNAME:EDT
DTSTART:20230312T070000
END:DAYLIGHT
BEGIN:STANDARD
TZOFFSETFROM:-0400
TZOFFSETTO:-0500
TZNAME:EST
DTSTART:20231105T060000
END:STANDARD
BEGIN:DAYLIGHT
TZOFFSETFROM:-0500
TZOFFSETTO:-0400
TZNAME:EDT
DTSTART:20240310T070000
END:DAYLIGHT
BEGIN:STANDARD
TZOFFSETFROM:-0400
TZOFFSETTO:-0500
TZNAME:EST
DTSTART:20241103T060000
END:STANDARD
END:VTIMEZONE
BEGIN:VEVENT
DTSTART;TZID=America/New_York:20230120T170000
DTEND;TZID=America/New_York:20230120T200000
DTSTAMP:20260421T072600
CREATED:20230118T192747Z
LAST-MODIFIED:20230118T192747Z
UID:1840-1674234000-1674244800@www.zumix.org
SUMMARY:Spring Songwriting & Performance Open House
DESCRIPTION:Join us for an evening of music\, activities\, snacks and fun! Come jam with us\, sign up for our open mic\, and learn about our Songwriting & Performance offerings this semester. Bring a friend and come through!
URL:https://www.zumix.org/event/spring-songwriting-performance-open-house/
LOCATION:Zumix\, 260 Sumner Street\, Boston\, MA\, 02128\, United States
ATTACH;FMTTYPE=image/png:https://www.zumix.org/wp-content/uploads/2023/01/SNP-SpringOPEN.png
END:VEVENT
BEGIN:VEVENT
DTSTART;TZID=America/New_York:20230121T190000
DTEND;TZID=America/New_York:20230121T220000
DTSTAMP:20260421T072600
CREATED:20230104T160750Z
LAST-MODIFIED:20230104T160913Z
UID:1766-1674327600-1674338400@www.zumix.org
SUMMARY:Johnny Giraldo's Birthday Celebration and Fundraiser
DESCRIPTION:ZUMIX board member and salsa maven Johnny Giraldo is donating his birthday to ZUMIX! Join us for an evening of dance\, music and fun\, with all proceeds benefiting ZUMIX. \nThis evening is dedicated to ZUMIX and includes: \n\nSocial dancing to DJ Music\nLive Music by one of Boston’s finest\, Manolo Mairena y su Pura Vida\nSpecial Guest Johnny “Dandy” Rodriguez\, who is a world class percussionist and has played with luminaries of our music such as Tito Puente\, Tito Rodiguez\, Machito and Johnny Pacheco. He’s the founder of Tipica 73\, the Mambo Legends Orchestra and currently leads his band\, “Johnny Rodriguez and his Dream Team\,” in New York City.\nDance Performances\nFood\nAnd much more!\n$43 in advance\, $50 at the door if available. Limited space. Beer and wine bar.\n\nGet your tickets here!
URL:https://www.zumix.org/event/johnny-giraldos-birthday-celebration-and-fundraiser/
LOCATION:Zumix\, 260 Sumner Street\, Boston\, MA\, 02128\, United States
ATTACH;FMTTYPE=image/jpeg:https://www.zumix.org/wp-content/uploads/2023/01/johnnys-birthday-flyer.jpg
END:VEVENT
BEGIN:VEVENT
DTSTART;TZID=America/New_York:20230127T170000
DTEND;TZID=America/New_York:20230127T200000
DTSTAMP:20260421T072601
CREATED:20230125T165100Z
LAST-MODIFIED:20230125T165100Z
UID:1851-1674838800-1674849600@www.zumix.org
SUMMARY:CM&T Spring Open House
DESCRIPTION:Join us for our Spring CM&T Open House! Participate in a radio interview\, win our cable wrapping competition and learn about what we’re offering this semester! Catch us on the 2nd floor! \n¡Únase a nosotros para nuestra Casa Abierta de CM&T! ¡Participe en una entrevista de radio\, gane nuestra competencia de cables y conozca lo que ofrecemos este semestre! ¡Encuentranos en el segundo piso!
URL:https://www.zumix.org/event/cmt-spring-open-house/
LOCATION:Zumix\, 260 Sumner Street\, Boston\, MA\, 02128\, United States
ATTACH;FMTTYPE=image/png:https://www.zumix.org/wp-content/uploads/2023/01/OpenHouse_Jan27.png
END:VEVENT
BEGIN:VEVENT
DTSTART;TZID=America/New_York:20230131T180000
DTEND;TZID=America/New_York:20230131T200000
DTSTAMP:20260421T072601
CREATED:20230103T223411Z
LAST-MODIFIED:20230117T194612Z
UID:1760-1675188000-1675195200@www.zumix.org
SUMMARY:Adventures in Music Winter Showcase #6
DESCRIPTION:Join us at the Firehouse for a musical showcase\, featuring the students of Brian Paulding and Ali McGuirk!
URL:https://www.zumix.org/event/adventures-in-music-winter-showcase-6/
LOCATION:Zumix\, 260 Sumner Street\, Boston\, MA\, 02128\, United States
ATTACH;FMTTYPE=image/jpeg:https://www.zumix.org/wp-content/uploads/2022/04/ZUMIX-2022-Walk-53.jpg
END:VEVENT
END:VCALENDAR