BEGIN:VCALENDAR
VERSION:2.0
PRODID:-//ZUMIX - ECPv6.15.12.2//NONSGML v1.0//EN
CALSCALE:GREGORIAN
METHOD:PUBLISH
X-WR-CALNAME:ZUMIX
X-ORIGINAL-URL:https://www.zumix.org
X-WR-CALDESC:Events for ZUMIX
REFRESH-INTERVAL;VALUE=DURATION:PT1H
X-Robots-Tag:noindex
X-PUBLISHED-TTL:PT1H
BEGIN:VTIMEZONE
TZID:America/New_York
BEGIN:DAYLIGHT
TZOFFSETFROM:-0500
TZOFFSETTO:-0400
TZNAME:EDT
DTSTART:20210314T070000
END:DAYLIGHT
BEGIN:STANDARD
TZOFFSETFROM:-0400
TZOFFSETTO:-0500
TZNAME:EST
DTSTART:20211107T060000
END:STANDARD
BEGIN:DAYLIGHT
TZOFFSETFROM:-0500
TZOFFSETTO:-0400
TZNAME:EDT
DTSTART:20220313T070000
END:DAYLIGHT
BEGIN:STANDARD
TZOFFSETFROM:-0400
TZOFFSETTO:-0500
TZNAME:EST
DTSTART:20221106T060000
END:STANDARD
BEGIN:DAYLIGHT
TZOFFSETFROM:-0500
TZOFFSETTO:-0400
TZNAME:EDT
DTSTART:20230312T070000
END:DAYLIGHT
BEGIN:STANDARD
TZOFFSETFROM:-0400
TZOFFSETTO:-0500
TZNAME:EST
DTSTART:20231105T060000
END:STANDARD
END:VTIMEZONE
BEGIN:VEVENT
DTSTART;TZID=America/New_York:20221028T170000
DTEND;TZID=America/New_York:20221028T180000
DTSTAMP:20260421T055008
CREATED:20221014T183032Z
LAST-MODIFIED:20221014T183032Z
UID:1524-1666976400-1666980000@www.zumix.org
SUMMARY:Fall Open House
DESCRIPTION:Join us for an open house and a tour of the Firehouse – then stay for the Z-Lounge\, to hear our students perform!
URL:https://www.zumix.org/event/fall-open-house/
LOCATION:Zumix\, 260 Sumner Street\, Boston\, MA\, 02128\, United States
ATTACH;FMTTYPE=image/jpeg:https://www.zumix.org/wp-content/uploads/2022/05/MG_2239-scaled.jpg
END:VEVENT
END:VCALENDAR